BEGIN:VCALENDAR
PRODID:-//eluceo/ical//2.0/EN
VERSION:2.0
CALSCALE:GREGORIAN
BEGIN:VEVENT
UID:event-81
DTSTAMP:20260426T024247Z
SUMMARY:Plant-Based Cooking & Gardening Workshop | Erasmus Food Lab
DESCRIPTION:Indulge your taste buds at our Cooking &amp\; Gardening Worksh
 op Join us on the 6th of July 2024 at the Erasmus Food Lab for a hands-o
 n exploration of delicious\, healthy\, and sustainable food\, where you wi
 ll become the chef of your own culinary journey. This event is organized b
 y the Young Erasmus Circle. However\, all interested members are welcome 
 to join! More than Ingredients  This workshop is more than just cooking. 
 The experts from the Erasmus Food Lab will answer all your questions abou
 t nutrients\, sustainable food choices\, and how to make plant-based meals
  that are not only good for you but also for the planet. Beyond the Kitche
 n Explore the campus garden and learn about sustainable gardening practi
 ces. Discover the satisfaction of growing your own ingredients and gain in
 sights into making eco-conscious choices in your everyday life.  While th
 e 'cooking' team will prepare a plant-powered meal in the kitchen\, the '
 gardening' team will delve into gardening adventures and handpick ingredi
 ents for the meal in the campus' garden. The ticket includes the cooking/g
 ardening workshop\, dinner\, and drinks. Location The Erasmus Food Lab aim
 s to promote and raise awareness about sustainable and healthy food. Withi
 n the professional kitchen of the Erasmus Food Lab\, we will roll up our s
 leeves and prepare a delectable\, plant-based dinner. Connected by Passion
  for Food and Sustainability Join us for an event where passion for good f
 ood meets the joy of cultivating a greener\, healthier future.  Reserve y
 our spot now for our Cooking &amp\; Gardening Workshop and be the chef of 
 your own flavorful journey!
DTSTART:20240706T120000Z
DTEND:20240706T150000Z
LOCATION:Erasmus Food Lab
END:VEVENT
BEGIN:VTIMEZONE
TZID:UTC
BEGIN:STANDARD
DTSTART:20240706T120000
TZNAME:UTC
TZOFFSETTO:+0000
TZOFFSETFROM:+0000
END:STANDARD
END:VTIMEZONE
END:VCALENDAR
